BEGIN:VCALENDAR
VERSION:2.0
PRODID:-//Bassoontwins/Fagottweeling Roos en Emma Vondenhoff - ECPv6.15.20//NONSGML v1.0//EN
CALSCALE:GREGORIAN
METHOD:PUBLISH
X-ORIGINAL-URL:https://www.bassoontwins.com
X-WR-CALDESC:Evenementen voor Bassoontwins/Fagottweeling Roos en Emma Vondenhoff
REFRESH-INTERVAL;VALUE=DURATION:PT1H
X-Robots-Tag:noindex
X-PUBLISHED-TTL:PT1H
BEGIN:VTIMEZONE
TZID:Europe/Amsterdam
BEGIN:DAYLIGHT
TZOFFSETFROM:+0100
TZOFFSETTO:+0200
TZNAME:CEST
DTSTART:20240331T010000
END:DAYLIGHT
BEGIN:STANDARD
TZOFFSETFROM:+0200
TZOFFSETTO:+0100
TZNAME:CET
DTSTART:20241027T010000
END:STANDARD
BEGIN:DAYLIGHT
TZOFFSETFROM:+0100
TZOFFSETTO:+0200
TZNAME:CEST
DTSTART:20250330T010000
END:DAYLIGHT
BEGIN:STANDARD
TZOFFSETFROM:+0200
TZOFFSETTO:+0100
TZNAME:CET
DTSTART:20251026T010000
END:STANDARD
BEGIN:DAYLIGHT
TZOFFSETFROM:+0100
TZOFFSETTO:+0200
TZNAME:CEST
DTSTART:20260329T010000
END:DAYLIGHT
BEGIN:STANDARD
TZOFFSETFROM:+0200
TZOFFSETTO:+0100
TZNAME:CET
DTSTART:20261025T010000
END:STANDARD
BEGIN:DAYLIGHT
TZOFFSETFROM:+0100
TZOFFSETTO:+0200
TZNAME:CEST
DTSTART:20270328T010000
END:DAYLIGHT
BEGIN:STANDARD
TZOFFSETFROM:+0200
TZOFFSETTO:+0100
TZNAME:CET
DTSTART:20271031T010000
END:STANDARD
END:VTIMEZONE
BEGIN:VEVENT
DTSTART;TZID=Europe/Amsterdam:20260303T100000
DTEND;TZID=Europe/Amsterdam:20260303T103000
DTSTAMP:20260421T171219
CREATED:20260208T191627Z
LAST-MODIFIED:20260225T060244Z
UID:1442-1772532000-1772533800@www.bassoontwins.com
SUMMARY:Eindexamen Codarts Lyceum Emma (harp)
DESCRIPTION:
URL:https://www.bassoontwins.com/event/eindexamen-codarts-lyceum-emma-harp/
LOCATION:Codarts\, Kruisplein 26\, Rotterdam\, 3012CC\, Netherlands
CATEGORIES:kamermuziek
ATTACH;FMTTYPE=image/png:https://www.bassoontwins.com/wp-content/uploads/2026/02/Emma-poster-eindexamen.png
END:VEVENT
BEGIN:VEVENT
DTSTART;TZID=Europe/Amsterdam:20260214T200000
DTEND;TZID=Europe/Amsterdam:20260214T213000
DTSTAMP:20260421T171219
CREATED:20260208T191330Z
LAST-MODIFIED:20260208T192822Z
UID:1440-1771099200-1771104600@www.bassoontwins.com
SUMMARY:Bassoontwins+Family in Aerdenhout (besloten concert)
DESCRIPTION:
URL:https://www.bassoontwins.com/event/bassoontwins-in-aerdenhout-besloten-concert/
LOCATION:Besloten optreden
CATEGORIES:kamermuziek
END:VEVENT
BEGIN:VEVENT
DTSTART;TZID=Europe/Amsterdam:20260201T110000
DTEND;TZID=Europe/Amsterdam:20260201T120000
DTSTAMP:20260421T171219
CREATED:20250524T152907Z
LAST-MODIFIED:20250917T060121Z
UID:1151-1769943600-1769947200@www.bassoontwins.com
SUMMARY:Bassoontwins in de serie Jong & Bevlogen in Amersfoort
DESCRIPTION:
URL:https://www.bassoontwins.com/event/bassoontwins-in-de-serie-jong-bevlogen-in-amersfoort/
LOCATION:Sint Aegtenkapel Amersfoort\, 't Zand 37\, Amersfoort\, Netherlands
CATEGORIES:kamermuziek
ATTACH;FMTTYPE=image/png:https://www.bassoontwins.com/wp-content/uploads/2025/05/260201-aankondiging-Amersfoort.png
END:VEVENT
BEGIN:VEVENT
DTSTART;TZID=Europe/Amsterdam:20260117T200000
DTEND;TZID=Europe/Amsterdam:20260117T220000
DTSTAMP:20260421T171219
CREATED:20250830T070557Z
LAST-MODIFIED:20250830T070650Z
UID:1317-1768680000-1768687200@www.bassoontwins.com
SUMMARY:Bassoontwins concert in serie Klassiek aan het Lint (Berkel)
DESCRIPTION:
URL:https://www.bassoontwins.com/event/bassoontwins-concert-in-serie-klassiek-aan-het-lint-berkel/
LOCATION:OLVG Kerk Berkel\, Noordeindseweg 102\, Berkel\, Nederland
CATEGORIES:kamermuziek
END:VEVENT
BEGIN:VEVENT
DTSTART;TZID=Europe/Amsterdam:20251207T133000
DTEND;TZID=Europe/Amsterdam:20251207T173000
DTSTAMP:20260421T171219
CREATED:20251204T224636Z
LAST-MODIFIED:20251204T224733Z
UID:1396-1765114200-1765128600@www.bassoontwins.com
SUMMARY:Bassoontwins spelen bij Son en Breugel Cultuurronde
DESCRIPTION:https://www.mooisonenbreugel.nl/algemeen/algemeen/42120/eerste-cultuurronde-son-en-breugel-verrassende-rondgang-langs \nONTVANGST :- 13:00 uur met koffie of thee in Brouwerij ’t Krut- \nIndeling in 4 groepen bij registratie- 4 locaties: 2 optredens per locatie- \nU loopt onder begeleiding met uw groep langs alle locaties.- \nDe artiesten blijven op locatie– Pauze in de kiosk rond ca.15.15 uur voor een drankje- Gezamenlijke afsluiting met een drankje & hapje in Restaurant De Zwaan \n‘T KRUT 1 Daan Doesborg (poëzie) 2 Roel C.Verburg (cabaret&gitaar) \nDOMMELHUIS 1 David Kooi (piano) 2 Roza Herwig & Julius Backer (zang & piano) \nDE OUDE TOREN 1 Ballet Mécanique film met muziek 2 Bassoon Twins\, (Fagot en Harp) \nDE ZWAAN 1 Paulus Schåfer & Joost Zoeteman (Gipsy Jazz) 2 Caroline Rutte (zang) & Dirk Overbeek (accordeon / piano)
URL:https://www.bassoontwins.com/event/bassoontwins-spelen-bij-son-en-breugel-cultuurronde/
LOCATION:Kapel La Sonnerie\, Son\, Netherlands
CATEGORIES:kamermuziek
ATTACH;FMTTYPE=image/png:https://www.bassoontwins.com/wp-content/uploads/2025/12/251207-aankondiging-Son.png
END:VEVENT
BEGIN:VEVENT
DTSTART;TZID=Europe/Amsterdam:20251107T201500
DTEND;TZID=Europe/Amsterdam:20251107T220000
DTSTAMP:20260421T171219
CREATED:20250921T192923Z
LAST-MODIFIED:20250921T192923Z
UID:1378-1762546500-1762552800@www.bassoontwins.com
SUMMARY:Roos en Emma musiceren met het Monward Ensemble
DESCRIPTION:Roos en Emma hebben bij de regiofinale van het Prinses Christina Concours 2025 als prijs gewonnen met het Monward Ensemble te mogen optreden. Op het programma een werk voor harp en strijkers\, voor fagot en strijkers en een compositie voor twee fagotten.
URL:https://www.bassoontwins.com/event/roos-en-emma-musiceren-met-het-monward-ensemble/
CATEGORIES:kamermuziek,solo met orkest
ATTACH;FMTTYPE=image/png:https://www.bassoontwins.com/wp-content/uploads/2025/09/251107-aankondiging-Monward-Ensemble.png
END:VEVENT
BEGIN:VEVENT
DTSTART;TZID=Europe/Amsterdam:20251005T150000
DTEND;TZID=Europe/Amsterdam:20251005T160000
DTSTAMP:20260421T171219
CREATED:20250728T193115Z
LAST-MODIFIED:20250916T193827Z
UID:1237-1759676400-1759680000@www.bassoontwins.com
SUMMARY:Bassoontwins concert tijdens 'Muziek & Monumenten Concerten'
DESCRIPTION:georganiseerd door het Nationaal Muziekinstrumenten Fonds en Natuurmonumenten
URL:https://www.bassoontwins.com/event/bassoontwins-concert-tijdens-muziek-monumenten-concerten/
LOCATION:De Carolinahoeve\, Carolinahoeve 1\, De Steeg\, 6994 JB\, Netherlands
CATEGORIES:kamermuziek
ATTACH;FMTTYPE=image/png:https://www.bassoontwins.com/wp-content/uploads/2025/07/251005-aankondiging-NMF-Festival.png
ORGANIZER;CN="Nationaal Muziekinstrumenten Fonds":MAILTO:https://www.muziekinstrumentenfonds.nl/
END:VEVENT
BEGIN:VEVENT
DTSTART;TZID=Europe/Amsterdam:20250921T150000
DTEND;TZID=Europe/Amsterdam:20250921T160000
DTSTAMP:20260421T171219
CREATED:20250524T152443Z
LAST-MODIFIED:20250916T194202Z
UID:1147-1758466800-1758470400@www.bassoontwins.com
SUMMARY:Bassoontwins concert in Helmond
DESCRIPTION:
URL:https://www.bassoontwins.com/event/bassoontwins-concert-in-helmond/
LOCATION:Pleinzaal Speelhuis\, Speelhuisplein 1\, Helmond\, Netherlands
CATEGORIES:kamermuziek
ATTACH;FMTTYPE=image/png:https://www.bassoontwins.com/wp-content/uploads/2025/05/250921-aankondiging-Lambertusconcerten.png
END:VEVENT
BEGIN:VEVENT
DTSTART;TZID=Europe/Amsterdam:20250823T213000
DTEND;TZID=Europe/Amsterdam:20250823T223000
DTSTAMP:20260421T171219
CREATED:20250718T204521Z
LAST-MODIFIED:20250812T174718Z
UID:1226-1755984600-1755988200@www.bassoontwins.com
SUMMARY:Emma (harp) speelt Concert voor fluit\, harp en orkest van Mozart met Sinfonia Rotterdam
DESCRIPTION:Het concert is gratis te bezoeken\, maar de verwachting is dat het druk wordt\, wees er dus op tijd bij!
URL:https://www.bassoontwins.com/event/emma-harp-speelt-concert-voor-fluit-harp-en-orkest-van-mozart-met-sinfonia-rotterdam/
LOCATION:Euromastpark Rotterdam\, Baden Powellaan 2\, Rotterdam\, Netherlands
CATEGORIES:solo met orkest
END:VEVENT
BEGIN:VEVENT
DTSTART;TZID=Europe/Amsterdam:20250823T154500
DTEND;TZID=Europe/Amsterdam:20250823T160500
DTSTAMP:20260421T171219
CREATED:20250718T204225Z
LAST-MODIFIED:20250830T075132Z
UID:1223-1755963900-1755965100@www.bassoontwins.com
SUMMARY:Bassoontwins op Dag van de Romantische Muziek
DESCRIPTION:We speelden het volgende programma als Bassoontwins: \nIgor Stravinsky\n(1882-1971) \nLied Ohne Nahme \nWolfgang Amadeus Mozart\n(1756-1791) \nSonate voor fagot en cello KV 292\n– Allegro\n– Andante\n– Rondo: Allegro \nEugene Bozza\n(1905-1991) \nUit Duettino voor twee fagotten\n1. Allegro Moderato\n3. Allegro ma non troppo \nGeorges Bizet\n(1838-1875) \nLittle Duet in c klein
URL:https://www.bassoontwins.com/event/bassoontwins-op-dag-van-de-romantische-muziek-2/
LOCATION:Euromastpark Rotterdam\, Baden Powellaan 2\, Rotterdam\, Netherlands
CATEGORIES:kamermuziek
END:VEVENT
BEGIN:VEVENT
DTSTART;TZID=Europe/Amsterdam:20250823T134500
DTEND;TZID=Europe/Amsterdam:20250823T140500
DTSTAMP:20260421T171219
CREATED:20250718T203854Z
LAST-MODIFIED:20250830T075040Z
UID:1219-1755956700-1755957900@www.bassoontwins.com
SUMMARY:Bassoontwins op Dag van de Romantische Muziek
DESCRIPTION:We speelden het volgende programma als Bassoontwins: \nIgor Stravinsky\n(1882-1971) \nLied Ohne Nahme \nWolfgang Amadeus Mozart\n(1756-1791) \nSonate voor fagot en cello KV 292\n– Allegro\n– Andante\n– Rondo: Allegro \nEugene Bozza\n(1905-1991) \nUit Duettino voor twee fagotten\n1. Allegro Moderato\n3. Allegro ma non troppo \nGeorges Bizet\n(1838-1875) \nLittle Duet in c klein
URL:https://www.bassoontwins.com/event/bassoontwins-op-dag-van-de-romantische-muziek/
LOCATION:Euromastpark Rotterdam\, Baden Powellaan 2\, Rotterdam\, Netherlands
CATEGORIES:kamermuziek
END:VEVENT
END:VCALENDAR