BEGIN:VCALENDAR
VERSION:2.0
PRODID:-//Bassoontwins/Fagottweeling Roos en Emma Vondenhoff - ECPv6.15.20//NONSGML v1.0//EN
CALSCALE:GREGORIAN
METHOD:PUBLISH
X-WR-CALNAME:Bassoontwins/Fagottweeling Roos en Emma Vondenhoff
X-ORIGINAL-URL:https://www.bassoontwins.com
X-WR-CALDESC:Evenementen voor Bassoontwins/Fagottweeling Roos en Emma Vondenhoff
REFRESH-INTERVAL;VALUE=DURATION:PT1H
X-Robots-Tag:noindex
X-PUBLISHED-TTL:PT1H
BEGIN:VTIMEZONE
TZID:Europe/Amsterdam
BEGIN:DAYLIGHT
TZOFFSETFROM:+0100
TZOFFSETTO:+0200
TZNAME:CEST
DTSTART:20240331T010000
END:DAYLIGHT
BEGIN:STANDARD
TZOFFSETFROM:+0200
TZOFFSETTO:+0100
TZNAME:CET
DTSTART:20241027T010000
END:STANDARD
BEGIN:DAYLIGHT
TZOFFSETFROM:+0100
TZOFFSETTO:+0200
TZNAME:CEST
DTSTART:20250330T010000
END:DAYLIGHT
BEGIN:STANDARD
TZOFFSETFROM:+0200
TZOFFSETTO:+0100
TZNAME:CET
DTSTART:20251026T010000
END:STANDARD
BEGIN:DAYLIGHT
TZOFFSETFROM:+0100
TZOFFSETTO:+0200
TZNAME:CEST
DTSTART:20260329T010000
END:DAYLIGHT
BEGIN:STANDARD
TZOFFSETFROM:+0200
TZOFFSETTO:+0100
TZNAME:CET
DTSTART:20261025T010000
END:STANDARD
BEGIN:DAYLIGHT
TZOFFSETFROM:+0100
TZOFFSETTO:+0200
TZNAME:CEST
DTSTART:20270328T010000
END:DAYLIGHT
BEGIN:STANDARD
TZOFFSETFROM:+0200
TZOFFSETTO:+0100
TZNAME:CET
DTSTART:20271031T010000
END:STANDARD
END:VTIMEZONE
BEGIN:VEVENT
DTSTART;TZID=Europe/Amsterdam:20260306T180000
DTEND;TZID=Europe/Amsterdam:20260306T183000
DTSTAMP:20260421T171108
CREATED:20260208T192323Z
LAST-MODIFIED:20260225T060009Z
UID:1447-1772820000-1772821800@www.bassoontwins.com
SUMMARY:Eindexamen Codarts Lyceum Roos (fagot)
DESCRIPTION:
URL:https://www.bassoontwins.com/event/eindexamen-codarts-lyceum-roos-fagot/
LOCATION:Codarts\, Kruisplein 26\, Rotterdam\, 3012CC\, Netherlands
CATEGORIES:kamermuziek
ATTACH;FMTTYPE=image/jpeg:https://www.bassoontwins.com/wp-content/uploads/2026/02/Roos-poster-eindexamen.jpg
END:VEVENT
BEGIN:VEVENT
DTSTART;TZID=Europe/Amsterdam:20260306T170000
DTEND;TZID=Europe/Amsterdam:20260306T173000
DTSTAMP:20260421T171108
CREATED:20260208T192200Z
LAST-MODIFIED:20260225T055850Z
UID:1445-1772816400-1772818200@www.bassoontwins.com
SUMMARY:Eindexamen Codarts Lyceum Emma (fagot)
DESCRIPTION:
URL:https://www.bassoontwins.com/event/eindexamen-codarts-lyceum-emma-fagot/
LOCATION:Codarts\, Kruisplein 26\, Rotterdam\, 3012CC\, Netherlands
CATEGORIES:kamermuziek
ATTACH;FMTTYPE=image/png:https://www.bassoontwins.com/wp-content/uploads/2026/02/Emma-poster-eindexamen.png
END:VEVENT
BEGIN:VEVENT
DTSTART;TZID=Europe/Amsterdam:20260214T200000
DTEND;TZID=Europe/Amsterdam:20260214T213000
DTSTAMP:20260421T171108
CREATED:20260208T191330Z
LAST-MODIFIED:20260208T192822Z
UID:1440-1771099200-1771104600@www.bassoontwins.com
SUMMARY:Bassoontwins+Family in Aerdenhout (besloten concert)
DESCRIPTION:
URL:https://www.bassoontwins.com/event/bassoontwins-in-aerdenhout-besloten-concert/
LOCATION:Besloten optreden
CATEGORIES:kamermuziek
END:VEVENT
BEGIN:VEVENT
DTSTART;TZID=Europe/Amsterdam:20260117T200000
DTEND;TZID=Europe/Amsterdam:20260117T220000
DTSTAMP:20260421T171108
CREATED:20250830T070557Z
LAST-MODIFIED:20250830T070650Z
UID:1317-1768680000-1768687200@www.bassoontwins.com
SUMMARY:Bassoontwins concert in serie Klassiek aan het Lint (Berkel)
DESCRIPTION:
URL:https://www.bassoontwins.com/event/bassoontwins-concert-in-serie-klassiek-aan-het-lint-berkel/
LOCATION:OLVG Kerk Berkel\, Noordeindseweg 102\, Berkel\, Nederland
CATEGORIES:kamermuziek
END:VEVENT
BEGIN:VEVENT
DTSTART;TZID=Europe/Amsterdam:20251207T133000
DTEND;TZID=Europe/Amsterdam:20251207T173000
DTSTAMP:20260421T171108
CREATED:20251204T224636Z
LAST-MODIFIED:20251204T224733Z
UID:1396-1765114200-1765128600@www.bassoontwins.com
SUMMARY:Bassoontwins spelen bij Son en Breugel Cultuurronde
DESCRIPTION:https://www.mooisonenbreugel.nl/algemeen/algemeen/42120/eerste-cultuurronde-son-en-breugel-verrassende-rondgang-langs \nONTVANGST :- 13:00 uur met koffie of thee in Brouwerij ’t Krut- \nIndeling in 4 groepen bij registratie- 4 locaties: 2 optredens per locatie- \nU loopt onder begeleiding met uw groep langs alle locaties.- \nDe artiesten blijven op locatie– Pauze in de kiosk rond ca.15.15 uur voor een drankje- Gezamenlijke afsluiting met een drankje & hapje in Restaurant De Zwaan \n‘T KRUT 1 Daan Doesborg (poëzie) 2 Roel C.Verburg (cabaret&gitaar) \nDOMMELHUIS 1 David Kooi (piano) 2 Roza Herwig & Julius Backer (zang & piano) \nDE OUDE TOREN 1 Ballet Mécanique film met muziek 2 Bassoon Twins\, (Fagot en Harp) \nDE ZWAAN 1 Paulus Schåfer & Joost Zoeteman (Gipsy Jazz) 2 Caroline Rutte (zang) & Dirk Overbeek (accordeon / piano)
URL:https://www.bassoontwins.com/event/bassoontwins-spelen-bij-son-en-breugel-cultuurronde/
LOCATION:Kapel La Sonnerie\, Son\, Netherlands
CATEGORIES:kamermuziek
ATTACH;FMTTYPE=image/png:https://www.bassoontwins.com/wp-content/uploads/2025/12/251207-aankondiging-Son.png
END:VEVENT
BEGIN:VEVENT
DTSTART;TZID=Europe/Amsterdam:20251109T150000
DTEND;TZID=Europe/Amsterdam:20251109T170000
DTSTAMP:20260421T171108
CREATED:20250729T093841Z
LAST-MODIFIED:20251004T122846Z
UID:1240-1762700400-1762707600@www.bassoontwins.com
SUMMARY:Roos (fagot) speelt Concert voor fagot en orkest van Vivaldi
DESCRIPTION:Dit concert is een prijs die Roos won als finalist bij het Prinses Christina Concours 2025
URL:https://www.bassoontwins.com/event/roos-fagot-speelt-concert-voor-fagot-en-orkest-van-vivaldi/
LOCATION:Stadsgehoorzaal Vlaardingen\, Schiedamseweg 51\, Vlaardingen\, 3134 BB\, Netherlands
CATEGORIES:solo met orkest
ATTACH;FMTTYPE=image/png:https://www.bassoontwins.com/wp-content/uploads/2025/07/251109-aankondiging-Sinfonia-Vlaardingen.png
END:VEVENT
BEGIN:VEVENT
DTSTART;TZID=Europe/Amsterdam:20251107T201500
DTEND;TZID=Europe/Amsterdam:20251107T220000
DTSTAMP:20260421T171108
CREATED:20250921T192923Z
LAST-MODIFIED:20250921T192923Z
UID:1378-1762546500-1762552800@www.bassoontwins.com
SUMMARY:Roos en Emma musiceren met het Monward Ensemble
DESCRIPTION:Roos en Emma hebben bij de regiofinale van het Prinses Christina Concours 2025 als prijs gewonnen met het Monward Ensemble te mogen optreden. Op het programma een werk voor harp en strijkers\, voor fagot en strijkers en een compositie voor twee fagotten.
URL:https://www.bassoontwins.com/event/roos-en-emma-musiceren-met-het-monward-ensemble/
CATEGORIES:kamermuziek,solo met orkest
ATTACH;FMTTYPE=image/png:https://www.bassoontwins.com/wp-content/uploads/2025/09/251107-aankondiging-Monward-Ensemble.png
END:VEVENT
BEGIN:VEVENT
DTSTART;TZID=Europe/Amsterdam:20251005T150000
DTEND;TZID=Europe/Amsterdam:20251005T160000
DTSTAMP:20260421T171108
CREATED:20250728T193115Z
LAST-MODIFIED:20250916T193827Z
UID:1237-1759676400-1759680000@www.bassoontwins.com
SUMMARY:Bassoontwins concert tijdens 'Muziek & Monumenten Concerten'
DESCRIPTION:georganiseerd door het Nationaal Muziekinstrumenten Fonds en Natuurmonumenten
URL:https://www.bassoontwins.com/event/bassoontwins-concert-tijdens-muziek-monumenten-concerten/
LOCATION:De Carolinahoeve\, Carolinahoeve 1\, De Steeg\, 6994 JB\, Netherlands
CATEGORIES:kamermuziek
ATTACH;FMTTYPE=image/png:https://www.bassoontwins.com/wp-content/uploads/2025/07/251005-aankondiging-NMF-Festival.png
ORGANIZER;CN="Nationaal Muziekinstrumenten Fonds":MAILTO:https://www.muziekinstrumentenfonds.nl/
END:VEVENT
BEGIN:VEVENT
DTSTART;TZID=Europe/Amsterdam:20250906T100000
DTEND;TZID=Europe/Amsterdam:20250906T120000
DTSTAMP:20260421T171108
CREATED:20250830T070931Z
LAST-MODIFIED:20250830T071023Z
UID:1322-1757152800-1757160000@www.bassoontwins.com
SUMMARY:Bassoontwins in Rotterdam (besloten event)
DESCRIPTION:Besloten optreden
URL:https://www.bassoontwins.com/event/bassoontwins-in-rotterdam-besloten-event/
CATEGORIES:kamermuziek
END:VEVENT
BEGIN:VEVENT
DTSTART;TZID=Europe/Amsterdam:20250824T203000
DTEND;TZID=Europe/Amsterdam:20250824T223000
DTSTAMP:20260421T171108
CREATED:20250718T204942Z
LAST-MODIFIED:20250812T174845Z
UID:1231-1756067400-1756074600@www.bassoontwins.com
SUMMARY:Roos (fagot) speelt Concert voor fagot en orkest (1e deel) van Von Weber
DESCRIPTION:Dit concert is een prijs die Roos won als finalist bij het Prinses Christina Concours 2025.\nHet concert is gratis toegankelijk (veldplaats)\, en voor EUR 5\,- reserveert u een plek in het zitgedeelte (al uitverkocht voor de avond).
URL:https://www.bassoontwins.com/event/roos-fagot-speelt-concert-voor-fagot-en-orkest-1e-deel-van-von-weber-2/
LOCATION:Euromastpark Rotterdam\, Baden Powellaan 2\, Rotterdam\, Netherlands
CATEGORIES:solo met orkest
END:VEVENT
BEGIN:VEVENT
DTSTART;TZID=Europe/Amsterdam:20250824T153000
DTEND;TZID=Europe/Amsterdam:20250824T170000
DTSTAMP:20260421T171108
CREATED:20250718T204802Z
LAST-MODIFIED:20250812T174921Z
UID:1229-1756049400-1756054800@www.bassoontwins.com
SUMMARY:Roos (fagot) speelt Concert voor fagot en orkest (1e deel) van Von Weber
DESCRIPTION:Dit concert is een prijs die Roos won als finalist bij het Prinses Christina Concours 2025.\nHet concert is gratis toegankelijk (veldplaats)\, en voor EUR 5\,- reserveert u een plek in het zitgedeelte (al uitverkocht voor de avond).
URL:https://www.bassoontwins.com/event/roos-fagot-speelt-concert-voor-fagot-en-orkest-1e-deel-van-von-weber/
LOCATION:Euromastpark Rotterdam\, Baden Powellaan 2\, Rotterdam\, Netherlands
CATEGORIES:solo met orkest
END:VEVENT
END:VCALENDAR